BEGIN:VCALENDAR
VERSION:2.0
PRODID:-//Eric J. Hall - ECPv6.0.13.1//NONSGML v1.0//EN
CALSCALE:GREGORIAN
METHOD:PUBLISH
X-ORIGINAL-URL:https://ericjhall.org
X-WR-CALDESC:Events for Eric J. Hall
REFRESH-INTERVAL;VALUE=DURATION:PT1H
X-Robots-Tag:noindex
X-PUBLISHED-TTL:PT1H
BEGIN:VTIMEZONE
TZID:America/New_York
BEGIN:DAYLIGHT
TZOFFSETFROM:-0500
TZOFFSETTO:-0400
TZNAME:EDT
DTSTART:20190310T070000
END:DAYLIGHT
BEGIN:STANDARD
TZOFFSETFROM:-0400
TZOFFSETTO:-0500
TZNAME:EST
DTSTART:20191103T060000
END:STANDARD
END:VTIMEZONE
BEGIN:VEVENT
DTSTART;TZID=America/New_York:20191229T103000
DTEND;TZID=America/New_York:20191229T113000
DTSTAMP:20260420T050810
CREATED:20190905T183804Z
LAST-MODIFIED:20190905T183804Z
UID:2889-1577615400-1577619000@ericjhall.org
SUMMARY:Sunday Service
DESCRIPTION:10:30 a.m.\nWorship and Children’s Sunday School. \nWe will hold our service at 10:30 a.m. every Sunday at 11 Woodlot Road in Eastchester. Parking is available in the church lot and surrounding streets. Contact us with any questions. \nIf you can’t make it to our church\, you can watch the service from home on Facebook Live: https://www.facebook.com/EastchesterC/
URL:https://ericjhall.org/event/sunday-service-17/
LOCATION:Eastchester Church\, 11 Woodlot Rd\, Eastchester\, NY\, 10709\, United States
CATEGORIES:Sunday Service
END:VEVENT
BEGIN:VEVENT
DTSTART;TZID=America/New_York:20191222T103000
DTEND;TZID=America/New_York:20191222T113000
DTSTAMP:20260420T050810
CREATED:20190905T183718Z
LAST-MODIFIED:20190905T183718Z
UID:2887-1577010600-1577014200@ericjhall.org
SUMMARY:Sunday Service
DESCRIPTION:10:30 a.m.\nWorship and Children’s Sunday School. \nWe will hold our service at 10:30 a.m. every Sunday at 11 Woodlot Road in Eastchester. Parking is available in the church lot and surrounding streets. Contact us with any questions. \nIf you can’t make it to our church\, you can watch the service from home on Facebook Live: https://www.facebook.com/EastchesterC/
URL:https://ericjhall.org/event/sunday-service-16/
LOCATION:Eastchester Church\, 11 Woodlot Rd\, Eastchester\, NY\, 10709\, United States
CATEGORIES:Sunday Service
END:VEVENT
BEGIN:VEVENT
DTSTART;TZID=America/New_York:20191215T103000
DTEND;TZID=America/New_York:20191215T113000
DTSTAMP:20260420T050810
CREATED:20190905T183615Z
LAST-MODIFIED:20190905T183615Z
UID:2885-1576405800-1576409400@ericjhall.org
SUMMARY:Sunday Service
DESCRIPTION:10:30 a.m.\nWorship and Children’s Sunday School. \nWe will hold our service at 10:30 a.m. every Sunday at 11 Woodlot Road in Eastchester. Parking is available in the church lot and surrounding streets. Contact us with any questions. \nIf you can’t make it to our church\, you can watch the service from home on Facebook Live: https://www.facebook.com/EastchesterC/
URL:https://ericjhall.org/event/sunday-service-15/
LOCATION:Eastchester Church\, 11 Woodlot Rd\, Eastchester\, NY\, 10709\, United States
CATEGORIES:Sunday Service
END:VEVENT
BEGIN:VEVENT
DTSTART;TZID=America/New_York:20191208T103000
DTEND;TZID=America/New_York:20191208T113000
DTSTAMP:20260420T050810
CREATED:20190905T183531Z
LAST-MODIFIED:20190905T183531Z
UID:2883-1575801000-1575804600@ericjhall.org
SUMMARY:Sunday Service
DESCRIPTION:10:30 a.m.\nWorship and Children’s Sunday School. \nWe will hold our service at 10:30 a.m. every Sunday at 11 Woodlot Road in Eastchester. Parking is available in the church lot and surrounding streets. Contact us with any questions. \nIf you can’t make it to our church\, you can watch the service from home on Facebook Live: https://www.facebook.com/EastchesterC/
URL:https://ericjhall.org/event/sunday-service-14/
LOCATION:Eastchester Church\, 11 Woodlot Rd\, Eastchester\, NY\, 10709\, United States
CATEGORIES:Sunday Service
END:VEVENT
BEGIN:VEVENT
DTSTART;TZID=America/New_York:20191201T103000
DTEND;TZID=America/New_York:20191201T113000
DTSTAMP:20260420T050810
CREATED:20190905T183438Z
LAST-MODIFIED:20190905T183438Z
UID:2881-1575196200-1575199800@ericjhall.org
SUMMARY:Sunday Service
DESCRIPTION:10:30 a.m.\nWorship and Children’s Sunday School. \nWe will hold our service at 10:30 a.m. every Sunday at 11 Woodlot Road in Eastchester. Parking is available in the church lot and surrounding streets. Contact us with any questions. \nIf you can’t make it to our church\, you can watch the service from home on Facebook Live: https://www.facebook.com/EastchesterC/
URL:https://ericjhall.org/event/sunday-service-13/
LOCATION:Eastchester Church\, 11 Woodlot Rd\, Eastchester\, NY\, 10709\, United States
CATEGORIES:Sunday Service
END:VEVENT
BEGIN:VEVENT
DTSTART;TZID=America/New_York:20191124T103000
DTEND;TZID=America/New_York:20191124T113000
DTSTAMP:20260420T050810
CREATED:20190905T183354Z
LAST-MODIFIED:20190905T183354Z
UID:2879-1574591400-1574595000@ericjhall.org
SUMMARY:Sunday Service
DESCRIPTION:10:30 a.m.\nWorship and Children’s Sunday School. \nWe will hold our service at 10:30 a.m. every Sunday at 11 Woodlot Road in Eastchester. Parking is available in the church lot and surrounding streets. Contact us with any questions. \nIf you can’t make it to our church\, you can watch the service from home on Facebook Live: https://www.facebook.com/EastchesterC/
URL:https://ericjhall.org/event/sunday-service-12/
LOCATION:Eastchester Church\, 11 Woodlot Rd\, Eastchester\, NY\, 10709\, United States
CATEGORIES:Sunday Service
END:VEVENT
BEGIN:VEVENT
DTSTART;TZID=America/New_York:20191103T103000
DTEND;TZID=America/New_York:20191103T113000
DTSTAMP:20260420T050810
CREATED:20190905T183143Z
LAST-MODIFIED:20190905T183143Z
UID:2875-1572777000-1572780600@ericjhall.org
SUMMARY:Sunday Service
DESCRIPTION:10:30 a.m.\nWorship and Children’s Sunday School. \nWe will hold our service at 10:30 a.m. every Sunday at 11 Woodlot Road in Eastchester. Parking is available in the church lot and surrounding streets. Contact us with any questions. \nIf you can’t make it to our church\, you can watch the service from home on Facebook Live: https://www.facebook.com/EastchesterC/
URL:https://ericjhall.org/event/sunday-service-10/
LOCATION:Eastchester Church\, 11 Woodlot Rd\, Eastchester\, NY\, 10709\, United States
CATEGORIES:Sunday Service
END:VEVENT
BEGIN:VEVENT
DTSTART;TZID=America/New_York:20191027T103000
DTEND;TZID=America/New_York:20191027T113000
DTSTAMP:20260420T050810
CREATED:20190905T183058Z
LAST-MODIFIED:20190905T183058Z
UID:2873-1572172200-1572175800@ericjhall.org
SUMMARY:Sunday Service
DESCRIPTION:10:30 a.m.\nWorship and Children’s Sunday School. \nWe will hold our service at 10:30 a.m. every Sunday at 11 Woodlot Road in Eastchester. Parking is available in the church lot and surrounding streets. Contact us with any questions. \nIf you can’t make it to our church\, you can watch the service from home on Facebook Live: https://www.facebook.com/EastchesterC/
URL:https://ericjhall.org/event/sunday-service-9/
LOCATION:Eastchester Church\, 11 Woodlot Rd\, Eastchester\, NY\, 10709\, United States
CATEGORIES:Sunday Service
END:VEVENT
BEGIN:VEVENT
DTSTART;TZID=America/New_York:20191020T103000
DTEND;TZID=America/New_York:20191020T113000
DTSTAMP:20260420T050810
CREATED:20190905T183008Z
LAST-MODIFIED:20190905T183008Z
UID:2871-1571567400-1571571000@ericjhall.org
SUMMARY:Sunday Service
DESCRIPTION:10:30 a.m.\nWorship and Children’s Sunday School. \nWe will hold our service at 10:30 a.m. every Sunday at 11 Woodlot Road in Eastchester. Parking is available in the church lot and surrounding streets. Contact us with any questions. \nIf you can’t make it to our church\, you can watch the service from home on Facebook Live: https://www.facebook.com/EastchesterC/
URL:https://ericjhall.org/event/sunday-service-8/
LOCATION:Eastchester Church\, 11 Woodlot Rd\, Eastchester\, NY\, 10709\, United States
CATEGORIES:Sunday Service
END:VEVENT
BEGIN:VEVENT
DTSTART;TZID=America/New_York:20191013T103000
DTEND;TZID=America/New_York:20191013T113000
DTSTAMP:20260420T050810
CREATED:20190905T182918Z
LAST-MODIFIED:20190905T182918Z
UID:2869-1570962600-1570966200@ericjhall.org
SUMMARY:Sunday Service
DESCRIPTION:10:30 a.m.\nWorship and Children’s Sunday School. \nWe will hold our service at 10:30 a.m. every Sunday at 11 Woodlot Road in Eastchester. Parking is available in the church lot and surrounding streets. Contact us with any questions. \nIf you can’t make it to our church\, you can watch the service from home on Facebook Live: https://www.facebook.com/EastchesterC/
URL:https://ericjhall.org/event/sunday-service-7/
LOCATION:Eastchester Church\, 11 Woodlot Rd\, Eastchester\, NY\, 10709\, United States
CATEGORIES:Sunday Service
END:VEVENT
BEGIN:VEVENT
DTSTART;TZID=America/New_York:20190929T103000
DTEND;TZID=America/New_York:20190929T113000
DTSTAMP:20260420T050810
CREATED:20190905T182632Z
LAST-MODIFIED:20190905T182632Z
UID:2865-1569753000-1569756600@ericjhall.org
SUMMARY:Sunday Service
DESCRIPTION:10:30 a.m.\nWorship and Children’s Sunday School. \nWe will hold our service at 10:30 a.m. every Sunday at 11 Woodlot Road in Eastchester. Parking is available in the church lot and surrounding streets. Contact us with any questions. \nIf you can’t make it to our church\, you can watch the service from home on Facebook Live: https://www.facebook.com/EastchesterC/
URL:https://ericjhall.org/event/sunday-service-5/
LOCATION:Eastchester Church\, 11 Woodlot Rd\, Eastchester\, NY\, 10709\, United States
CATEGORIES:Sunday Service
END:VEVENT
BEGIN:VEVENT
DTSTART;TZID=America/New_York:20190922T103000
DTEND;TZID=America/New_York:20190922T113000
DTSTAMP:20260420T050810
CREATED:20190905T182537Z
LAST-MODIFIED:20190905T182537Z
UID:2863-1569148200-1569151800@ericjhall.org
SUMMARY:Sunday Service
DESCRIPTION:10:30 a.m.\nWorship and Children’s Sunday School. \nWe will hold our service at 10:30 a.m. every Sunday at 11 Woodlot Road in Eastchester. Parking is available in the church lot and surrounding streets. Contact us with any questions. \nIf you can’t make it to our church\, you can watch the service from home on Facebook Live: https://www.facebook.com/EastchesterC/
URL:https://ericjhall.org/event/sunday-service-4/
LOCATION:NY
CATEGORIES:Sunday Service
END:VEVENT
BEGIN:VEVENT
DTSTART;TZID=America/New_York:20190915T103000
DTEND;TZID=America/New_York:20190915T113000
DTSTAMP:20260420T050810
CREATED:20190905T182450Z
LAST-MODIFIED:20190905T182450Z
UID:2861-1568543400-1568547000@ericjhall.org
SUMMARY:Sunday Service
DESCRIPTION:10:30 a.m.\nWorship and Children’s Sunday School. \nWe will hold our service at 10:30 a.m. every Sunday at 11 Woodlot Road in Eastchester. Parking is available in the church lot and surrounding streets. Contact us with any questions. \nIf you can’t make it to our church\, you can watch the service from home on Facebook Live: https://www.facebook.com/EastchesterC/
URL:https://ericjhall.org/event/sunday-service-3/
LOCATION:Eastchester Church\, 11 Woodlot Rd\, Eastchester\, NY\, 10709\, United States
CATEGORIES:Sunday Service
END:VEVENT
BEGIN:VEVENT
DTSTART;TZID=America/New_York:20190908T103000
DTEND;TZID=America/New_York:20190908T113000
DTSTAMP:20260420T050810
CREATED:20190905T182354Z
LAST-MODIFIED:20190905T182354Z
UID:2859-1567938600-1567942200@ericjhall.org
SUMMARY:Sunday Service
DESCRIPTION:10:30 a.m.\nWorship and Children’s Sunday School. \nWe will hold our service at 10:30 a.m. every Sunday at 11 Woodlot Road in Eastchester. Parking is available in the church lot and surrounding streets. Contact us with any questions. \nIf you can’t make it to our church\, you can watch the service from home on Facebook Live: https://www.facebook.com/EastchesterC/
URL:https://ericjhall.org/event/sunday-service-2/
LOCATION:Eastchester Church\, 11 Woodlot Rd\, Eastchester\, NY\, 10709\, United States
CATEGORIES:Sunday Service
END:VEVENT
END:VCALENDAR