BEGIN:VCALENDAR
VERSION:2.0
PRODID:-//Eric J. Hall - ECPv6.0.13.1//NONSGML v1.0//EN
CALSCALE:GREGORIAN
METHOD:PUBLISH
X-ORIGINAL-URL:https://ericjhall.org
X-WR-CALDESC:Events for Eric J. Hall
REFRESH-INTERVAL;VALUE=DURATION:PT1H
X-Robots-Tag:noindex
X-PUBLISHED-TTL:PT1H
BEGIN:VTIMEZONE
TZID:America/New_York
BEGIN:DAYLIGHT
TZOFFSETFROM:-0500
TZOFFSETTO:-0400
TZNAME:EDT
DTSTART:20180311T070000
END:DAYLIGHT
BEGIN:STANDARD
TZOFFSETFROM:-0400
TZOFFSETTO:-0500
TZNAME:EST
DTSTART:20181104T060000
END:STANDARD
END:VTIMEZONE
BEGIN:VEVENT
DTSTART;TZID=America/New_York:20181222T193000
DTEND;TZID=America/New_York:20181222T203000
DTSTAMP:20260420T050956
CREATED:20181112T230329Z
LAST-MODIFIED:20181112T233625Z
UID:2719-1545507000-1545510600@ericjhall.org
SUMMARY:The Living Nativity
DESCRIPTION:A stunning and moving musical portrayal of the birth of Jesus Christ. \nEastchester Church is converted into a stable\, musical talent from the tri-state area come together to celebrate\, with the community\, the joy of the birth of Jesus Christ. \nIf you’re looking to reconnect with the true spirit of this season\, come home to Eastchester Church \nAll are welcomed. Free of charge. \n\n\n\nReserve My Seat\nBuy Tickets on Eventbrite
URL:https://ericjhall.org/event/the-living-nativity-5/
LOCATION:Eastchester Church\, 11 Woodlot Rd\, Eastchester\, NY\, 10709\, United States
CATEGORIES:The Living Nativity
ATTACH;FMTTYPE=image/jpeg:https://ericjhall.org/wp-content/uploads/2017/12/1940_image_original.jpg
END:VEVENT
END:VCALENDAR